BEGIN:VCALENDAR
VERSION:2.0
PRODID:-//El Hizjra - ECPv6.15.17.1//NONSGML v1.0//EN
CALSCALE:GREGORIAN
METHOD:PUBLISH
X-WR-CALNAME:El Hizjra
X-ORIGINAL-URL:https://www.elhizjra.nl
X-WR-CALDESC:Evenementen voor El Hizjra
REFRESH-INTERVAL;VALUE=DURATION:PT1H
X-Robots-Tag:noindex
X-PUBLISHED-TTL:PT1H
BEGIN:VTIMEZONE
TZID:Europe/Paris
BEGIN:DAYLIGHT
TZOFFSETFROM:+0100
TZOFFSETTO:+0200
TZNAME:CEST
DTSTART:20190331T010000
END:DAYLIGHT
BEGIN:STANDARD
TZOFFSETFROM:+0200
TZOFFSETTO:+0100
TZNAME:CET
DTSTART:20191027T010000
END:STANDARD
BEGIN:DAYLIGHT
TZOFFSETFROM:+0100
TZOFFSETTO:+0200
TZNAME:CEST
DTSTART:20200329T010000
END:DAYLIGHT
BEGIN:STANDARD
TZOFFSETFROM:+0200
TZOFFSETTO:+0100
TZNAME:CET
DTSTART:20201025T010000
END:STANDARD
BEGIN:DAYLIGHT
TZOFFSETFROM:+0100
TZOFFSETTO:+0200
TZNAME:CEST
DTSTART:20210328T010000
END:DAYLIGHT
BEGIN:STANDARD
TZOFFSETFROM:+0200
TZOFFSETTO:+0100
TZNAME:CET
DTSTART:20211031T010000
END:STANDARD
END:VTIMEZONE
BEGIN:VEVENT
DTSTART;TZID=Europe/Paris:20201030T184500
DTEND;TZID=Europe/Paris:20201030T184500
DTSTAMP:20260423T192808
CREATED:20201008T142130Z
LAST-MODIFIED:20201008T142821Z
UID:8299-1604083500-1604083500@www.elhizjra.nl
SUMMARY:1\,5 meter sessie met megatalent: ELLE
DESCRIPTION:Muziek:\nEline Vaarzon Morel is een eenentwintig-jarige singer-songwriter die schuilgaat onder de naam ELLE. Zij maakt melancholische pop\, gebaseerd op persoonlijke ervaringen in haar leven. Hierbij voegt zij een klein vleugje flamenco toe aan het geheel\, waardoor er een mix ontstaat van westerse pop en Arabische klanken. Met deze verfrissende mix neemt zij je mee op een reis door haar innerlijke wereld. \nDiner:\nBij dit optreden worden Syrische Mezzes (tapas) geserveerd. \n \n  \nBoek:\ntalentvolle jong schrijver\, meestal een oud finalist van de El Hizjra literatuurprijs. Zal voordragen uit het werk van dichteres Lamia Makaddam en uit zijn/haar eigen werk. De organisatie is een samenwerking met de OBA Amsterdam. \nmaaltijd plus voorstelling €15\,- \nCasa Sofia – Ottho Heldringstraat 3\nzaal open: 18.00 uur \naanvang optreden: 18.45 uur\nmaaltijd: 19.15 uur\nRSVP: vooraf reserveren verplicht\, \ninfo@casasofia.nl  of 06.33.23.8000
URL:https://www.elhizjra.nl/evenement/15-meter-sessie-met-megatalent-elle/
LOCATION:Casa Sofia\, Louwesweg 6G\, Amsterdam\, 1066 EC\, Nederland
ATTACH;FMTTYPE=image/jpeg:https://www.elhizjra.nl/wp-content/uploads/2020/10/unnamed.jpg
END:VEVENT
END:VCALENDAR